BEGIN:VCALENDAR
VERSION:2.0
BEGIN:VEVENT
STATUS:CONFIRMED
UID:708d3e8acb862401087ad1b87cef345atht
DTSTAMP:20260420T180444Z
LOCATION:
DESCRIPTION:
URL;VALUE=URI: https://thehivetickets.rocks/coyotes-de-sonora-vs-costa-alegre-fecha-ocho/
SUMMARY:Coyotes de Sonora VS Costa Alegre -FECHA OCHO-
DTSTART:20220122T00
DTEND:20220122T00
TRIGGER:-PT15M
ACTION:DISPLAY
END:VEVENT
END:VCALENDAR