BEGIN:VCALENDAR
VERSION:2.0
BEGIN:VEVENT
STATUS:CONFIRMED
UID:c677ec981674d5cdb959355e7b2ad185tht
DTSTAMP:20260420T000453Z
LOCATION:
DESCRIPTION:
URL;VALUE=URI: https://thehivetickets.rocks/retropop-90s/
SUMMARY:Retropop 90\'s
DTSTART:20211204T00
DTEND:20211204T00
TRIGGER:-PT15M
ACTION:DISPLAY
END:VEVENT
END:VCALENDAR