BEGIN:VCALENDAR
VERSION:2.0
BEGIN:VEVENT
STATUS:CONFIRMED
UID:d774a17a183ea23782f5572d98fc2d3ctht
DTSTAMP:20260421T100400Z
LOCATION:
DESCRIPTION:
URL;VALUE=URI: https://thehivetickets.rocks/nascar-peak-queretaro/
SUMMARY:NASCAR PEAK - QUERETARO
DTSTART:20210905T00
DTEND:20210905T00
TRIGGER:-PT15M
ACTION:DISPLAY
END:VEVENT
END:VCALENDAR