BEGIN:VCALENDAR
VERSION:2.0
BEGIN:VEVENT
STATUS:CONFIRMED
UID:4aad34580d9dfb4a6d18394215c62c6atht
DTSTAMP:20260419T120454Z
LOCATION:
DESCRIPTION:
URL;VALUE=URI: https://thehivetickets.rocks/naskar-peak-mexico-series-aguascalientes/
SUMMARY:NASCAR PEAK - AGUASCALIENTES
DTSTART:20210801T00
DTEND:20210801T00
TRIGGER:-PT15M
ACTION:DISPLAY
END:VEVENT
END:VCALENDAR