BEGIN:VCALENDAR
VERSION:2.0
BEGIN:VEVENT
STATUS:CONFIRMED
UID:6d832046ed21ee29cf5674e7c06a665ftht
DTSTAMP:20260419T080430Z
LOCATION:
DESCRIPTION:
URL;VALUE=URI: https://thehivetickets.rocks/delirios/
SUMMARY:Delirios
DTSTART:20210703T00
DTEND:20210704T00
TRIGGER:-PT15M
ACTION:DISPLAY
END:VEVENT
END:VCALENDAR