BEGIN:VCALENDAR
VERSION:2.0
BEGIN:VEVENT
STATUS:CONFIRMED
UID:bde891c5bbfbfd46bf50a589c29b81c0tht
DTSTAMP:20260419T080436Z
LOCATION:
DESCRIPTION:
URL;VALUE=URI: https://thehivetickets.rocks/microfono-apagado/
SUMMARY:Micrófono apagado
DTSTART:20210626T00
DTEND:20210627T00
TRIGGER:-PT15M
ACTION:DISPLAY
END:VEVENT
END:VCALENDAR