BEGIN:VCALENDAR
VERSION:2.0
BEGIN:VEVENT
STATUS:CONFIRMED
UID:8eb10cb22ff7ac88826979c317c60289tht
DTSTAMP:20260419T230438Z
LOCATION:
DESCRIPTION:? Llegó el momento de demostrar tus habilidades en #Valorant con nuestro evento de 5vs5

URL;VALUE=URI: https://thehivetickets.rocks/torneo-thg-valorant-mx/
SUMMARY:Torneo THG Valorant
DTSTART:20201219T00
DTEND:20201219T00
TRIGGER:-PT15M
ACTION:DISPLAY
END:VEVENT
END:VCALENDAR