BEGIN:VCALENDAR
VERSION:2.0
BEGIN:VEVENT
STATUS:CONFIRMED
UID:82ac6bb570564862bb03c3fdc779235btht
DTSTAMP:20260424T160441Z
LOCATION:
DESCRIPTION:
URL;VALUE=URI: https://thehivetickets.rocks/atlante-vs-dorados-31-de-enero-2020/
SUMMARY:Atlante vs Dorados de Sinaloa | Ascenso MX. Clausura 2020.
DTSTART:20200131T200000
DTEND:20200131T200000
TRIGGER:-PT15M
ACTION:DISPLAY
END:VEVENT
END:VCALENDAR