BEGIN:VCALENDAR
VERSION:2.0
BEGIN:VEVENT
STATUS:CONFIRMED
UID:cc833af2ce3ea02db3e2ebfd4c532809tht
DTSTAMP:20260420T180429Z
LOCATION:
DESCRIPTION:
URL;VALUE=URI: https://thehivetickets.rocks/arreacup-iii/
SUMMARY:Arreacup III
DTSTART:20191123T00
DTEND:20191123T00
TRIGGER:-PT15M
ACTION:DISPLAY
END:VEVENT
END:VCALENDAR