BEGIN:VCALENDAR
VERSION:2.0
BEGIN:VEVENT
STATUS:CONFIRMED
UID:66dce9e66f4bbcf11659ee28472faa85tht
DTSTAMP:20260425T100409Z
LOCATION:Av. 16 de septiembre s/n, Naucalpan Centro  C.P. 53000
DESCRIPTION:
URL;VALUE=URI: https://thehivetickets.rocks/soltera-pero-no-para-cualquiera-3/
SUMMARY:SOLTERA PERO NO PARA CUALQUIERA
DTSTART:20191102T00
DTEND:20191130T00
TRIGGER:-PT15M
ACTION:DISPLAY
END:VEVENT
END:VCALENDAR