BEGIN:VCALENDAR
VERSION:2.0
BEGIN:VEVENT
STATUS:CONFIRMED
UID:f9597d11118d4e5fe72d04caba1eea56tht
DTSTAMP:20260420T180444Z
LOCATION:Morelos 67. Col. Juárez, Delegación Cuauhtémoc
DESCRIPTION:
URL;VALUE=URI: https://thehivetickets.rocks/catan-big-game-2019/
SUMMARY:Catan Big Game | 2019
DTSTART:20190223T173000
DTEND:20190223T173000
TRIGGER:-PT15M
ACTION:DISPLAY
END:VEVENT
END:VCALENDAR