BEGIN:VCALENDAR
VERSION:2.0
BEGIN:VEVENT
STATUS:CONFIRMED
UID:5731188eceb614b2cb9b97dc9608b5edtht
DTSTAMP:20260423T150455Z
LOCATION:
DESCRIPTION:
URL;VALUE=URI: https://thehivetickets.rocks/hoon-tune-fest/
SUMMARY:HOON & TUNE FEST
DTSTART:20260530T00
DTEND:20260530T00
TRIGGER:-PT15M
ACTION:DISPLAY
END:VEVENT
END:VCALENDAR