BEGIN:VCALENDAR
VERSION:2.0
BEGIN:VEVENT
STATUS:CONFIRMED
UID:6f2dbf4d00dcf7753b72e6e5d8f182b7tht
DTSTAMP:20260421T090454Z
LOCATION:
DESCRIPTION:
URL;VALUE=URI: https://thehivetickets.rocks/jarbeaux-en-el-silencio-cabaret/
SUMMARY:JARBEAUX en el Silencio Cabaret
DTSTART:20250502T00
DTEND:20250502T00
TRIGGER:-PT15M
ACTION:DISPLAY
END:VEVENT
END:VCALENDAR