BEGIN:VCALENDAR
VERSION:2.0
BEGIN:VEVENT
STATUS:CONFIRMED
UID:3e8ebd9984a823ed03da44ed787959ebtht
DTSTAMP:20260424T050448Z
LOCATION:
DESCRIPTION:
URL;VALUE=URI: https://thehivetickets.rocks/?p=13592
SUMMARY:NASCAR México Series Gran Premio Red Cola | Octubre 2024
DTSTART:20241013T00
DTEND:20241013T00
TRIGGER:-PT15M
ACTION:DISPLAY
END:VEVENT
END:VCALENDAR