BEGIN:VCALENDAR
VERSION:2.0
BEGIN:VEVENT
STATUS:CONFIRMED
UID:088d3897e9131fef2b375b59e590d705tht
DTSTAMP:20260421T210448Z
LOCATION:
DESCRIPTION:
URL;VALUE=URI: https://thehivetickets.rocks/?p=13580
SUMMARY:Nascar Querétaro | Septiembre 2024
DTSTART:20240922T00
DTEND:20240922T00
TRIGGER:-PT15M
ACTION:DISPLAY
END:VEVENT
END:VCALENDAR