BEGIN:VCALENDAR
VERSION:2.0
BEGIN:VEVENT
STATUS:CONFIRMED
UID:eebb67430662d352901dfef1d3ee2ac6tht
DTSTAMP:20260424T180457Z
LOCATION:
DESCRIPTION:
URL;VALUE=URI: https://thehivetickets.rocks/?p=13520
SUMMARY:Nascar San Luis Potosí
DTSTART:20240721T00
DTEND:20240721T00
TRIGGER:-PT15M
ACTION:DISPLAY
END:VEVENT
END:VCALENDAR