BEGIN:VCALENDAR
VERSION:2.0
BEGIN:VEVENT
STATUS:CONFIRMED
UID:6cb2ce831248e41dc0fa480cfc8871c8tht
DTSTAMP:20260423T120444Z
LOCATION:
DESCRIPTION:
URL;VALUE=URI: https://thehivetickets.rocks/mexico-game-experience-2024/
SUMMARY:MÉXICO GAME EXPERIENCE 2024 | MegaXP 2024
DTSTART:20240601T00
DTEND:20240602T00
TRIGGER:-PT15M
ACTION:DISPLAY
END:VEVENT
END:VCALENDAR