BEGIN:VCALENDAR
VERSION:2.0
BEGIN:VEVENT
STATUS:CONFIRMED
UID:dace9dbafbd8d50a035115d3ac3992adtht
DTSTAMP:20260423T120414Z
LOCATION:Barrio de la Purificación , Ejidos de Oxtoyahualco, Teotihuacán 55853
DESCRIPTION:
URL;VALUE=URI: https://thehivetickets.rocks/zeppelin-26-de-noviembre/
SUMMARY:ZEPPELIN 26 DE NOVIEMBRE
DTSTART:20231126T00
DTEND:20231126T00
TRIGGER:-PT15M
ACTION:DISPLAY
END:VEVENT
END:VCALENDAR