BEGIN:VCALENDAR
VERSION:2.0
BEGIN:VEVENT
STATUS:CONFIRMED
UID:744a75e446a2c9e8af9ad6e3d1f60ecdtht
DTSTAMP:20260423T210413Z
LOCATION:Av. Ejército Nacional Mexicano 843, Granada, Miguel Hidalgo, 11520 Ciudad de México, CDMX
DESCRIPTION:
URL;VALUE=URI: https://thehivetickets.rocks/official-after-show-party-of-the-weeknd-mexico-city-concert-hosted-by-hawk-xo-hxnny-xo/
SUMMARY:Official After Show Party of THE WEEKND Mexico City Concert
DTSTART:20230930T00
DTEND:20230930T00
TRIGGER:-PT15M
ACTION:DISPLAY
END:VEVENT
END:VCALENDAR