BEGIN:VCALENDAR
VERSION:2.0
BEGIN:VEVENT
STATUS:CONFIRMED
UID:425d982cc4bb1d67a33f75b6db39f081tht
DTSTAMP:20260422T130440Z
LOCATION:
DESCRIPTION:
URL;VALUE=URI: https://thehivetickets.rocks/mexico-game-experience-2023-megaxp-2023/
SUMMARY:MÉXICO GAME EXPERIENCE 2023 | MegaXP 2023
DTSTART:20230715T00
DTEND:20230716T00
TRIGGER:-PT15M
ACTION:DISPLAY
END:VEVENT
END:VCALENDAR