BEGIN:VCALENDAR
VERSION:2.0
BEGIN:VEVENT
STATUS:CONFIRMED
UID:2d5a1b88e121742b1a99e59f4fe6aef4tht
DTSTAMP:20260421T120424Z
LOCATION:
DESCRIPTION:
URL;VALUE=URI: https://thehivetickets.rocks/jack-y-los-frijoles-magicos/
SUMMARY:Jack y los Frijoles Mágicos
DTSTART:20221126T00
DTEND:20221223T00
TRIGGER:-PT15M
ACTION:DISPLAY
END:VEVENT
END:VCALENDAR