BEGIN:VCALENDAR
VERSION:2.0
BEGIN:VEVENT
STATUS:CONFIRMED
UID:6b5f4e3133e853760961fe5fcd43e5dftht
DTSTAMP:20260419T080438Z
LOCATION:
DESCRIPTION:
URL;VALUE=URI: https://thehivetickets.rocks/?p=11735
SUMMARY:Carrera Azteca por la inclusión “Corre conmigo”
DTSTART:20221211T00
DTEND:20221211T00
TRIGGER:-PT15M
ACTION:DISPLAY
END:VEVENT
END:VCALENDAR