BEGIN:VCALENDAR
VERSION:2.0
BEGIN:VEVENT
STATUS:CONFIRMED
UID:3575d9ecb8f9e7ed97f264b4e08fd7e2tht
DTSTAMP:20260420T050400Z
LOCATION:
DESCRIPTION:
URL;VALUE=URI: https://thehivetickets.rocks/ozomatli/
SUMMARY:Ozomatli
DTSTART:20221217T00
DTEND:20221217T00
TRIGGER:-PT15M
ACTION:DISPLAY
END:VEVENT
END:VCALENDAR