BEGIN:VCALENDAR
VERSION:2.0
BEGIN:VEVENT
STATUS:CONFIRMED
UID:cd078dd55d7d677c3062b180b5c255ddtht
DTSTAMP:20260421T150454Z
LOCATION:
DESCRIPTION:
URL;VALUE=URI: https://thehivetickets.rocks/platanito-3/
SUMMARY:Platanito
DTSTART:20220917T00
DTEND:20220922T00
TRIGGER:-PT15M
ACTION:DISPLAY
END:VEVENT
END:VCALENDAR