BEGIN:VCALENDAR
VERSION:2.0
BEGIN:VEVENT
STATUS:CONFIRMED
UID:49417758260adb86487cfa2ad8b8e33dtht
DTSTAMP:20260419T140430Z
LOCATION:
DESCRIPTION:
URL;VALUE=URI: https://thehivetickets.rocks/?p=10258
SUMMARY:Gran Premio Nus - Kah en el corazón de Ciudad Maderas Querétaro
DTSTART:20220508T00
DTEND:20220508T00
TRIGGER:-PT15M
ACTION:DISPLAY
END:VEVENT
END:VCALENDAR