BEGIN:VCALENDAR
VERSION:2.0
BEGIN:VEVENT
STATUS:CONFIRMED
UID:991dc008c84a0d6b85c33775fa98673dtht
DTSTAMP:20260419T140440Z
LOCATION:
DESCRIPTION:
URL;VALUE=URI: https://thehivetickets.rocks/xxxiv-gran-concurso-internacional-de-elegancia/
SUMMARY:XXXIV Gran Concurso Internacional de Elegancia
DTSTART:20220402T00
DTEND:20220403T00
TRIGGER:-PT15M
ACTION:DISPLAY
END:VEVENT
END:VCALENDAR